BEGIN:VCALENDAR
VERSION:2.0
PRODID:-//Shorter College - ECPv6.15.17.1//NONSGML v1.0//EN
CALSCALE:GREGORIAN
METHOD:PUBLISH
X-ORIGINAL-URL:https://shortercollege.edu
X-WR-CALDESC:Events for Shorter College
REFRESH-INTERVAL;VALUE=DURATION:PT1H
X-Robots-Tag:noindex
X-PUBLISHED-TTL:PT1H
BEGIN:VTIMEZONE
TZID:America/Chicago
BEGIN:DAYLIGHT
TZOFFSETFROM:-0600
TZOFFSETTO:-0500
TZNAME:CDT
DTSTART:20250309T080000
END:DAYLIGHT
BEGIN:STANDARD
TZOFFSETFROM:-0500
TZOFFSETTO:-0600
TZNAME:CST
DTSTART:20251102T070000
END:STANDARD
BEGIN:DAYLIGHT
TZOFFSETFROM:-0600
TZOFFSETTO:-0500
TZNAME:CDT
DTSTART:20260308T080000
END:DAYLIGHT
BEGIN:STANDARD
TZOFFSETFROM:-0500
TZOFFSETTO:-0600
TZNAME:CST
DTSTART:20261101T070000
END:STANDARD
BEGIN:DAYLIGHT
TZOFFSETFROM:-0600
TZOFFSETTO:-0500
TZNAME:CDT
DTSTART:20270314T080000
END:DAYLIGHT
BEGIN:STANDARD
TZOFFSETFROM:-0500
TZOFFSETTO:-0600
TZNAME:CST
DTSTART:20271107T070000
END:STANDARD
END:VTIMEZONE
BEGIN:VEVENT
DTSTART;TZID=America/Chicago:20260117T130000
DTEND;TZID=America/Chicago:20260117T163000
DTSTAMP:20260421T050238
CREATED:20260112T011033Z
LAST-MODIFIED:20260112T011033Z
UID:10000019-1768654800-1768667400@shortercollege.edu
SUMMARY:Men’s Basketball Game: Shorter vs SAU Tech
DESCRIPTION:Come out and support the Bulldogs on the court. Bring your friends\, show your school pride\, and be part of the energy as we compete this season.
URL:https://shortercollege.edu/event/mens-basketball-game-shorter-vs-sau-tech/
LOCATION:Shorter College Gymnasium\, 604 N Locust St\, North Little Rock\, AR\, 72114\, United States
CATEGORIES:Sports
ORGANIZER;CN="Tim Dal Bon Athletic Director":MAILTO:info@shortercollege.edu
END:VEVENT
END:VCALENDAR