BEGIN:VCALENDAR
VERSION:2.0
PRODID:-//Shorter College - ECPv6.15.17.1//NONSGML v1.0//EN
CALSCALE:GREGORIAN
METHOD:PUBLISH
X-ORIGINAL-URL:https://shortercollege.edu
X-WR-CALDESC:Events for Shorter College
REFRESH-INTERVAL;VALUE=DURATION:PT1H
X-Robots-Tag:noindex
X-PUBLISHED-TTL:PT1H
BEGIN:VTIMEZONE
TZID:America/Chicago
BEGIN:DAYLIGHT
TZOFFSETFROM:-0600
TZOFFSETTO:-0500
TZNAME:CDT
DTSTART:20250309T080000
END:DAYLIGHT
BEGIN:STANDARD
TZOFFSETFROM:-0500
TZOFFSETTO:-0600
TZNAME:CST
DTSTART:20251102T070000
END:STANDARD
BEGIN:DAYLIGHT
TZOFFSETFROM:-0600
TZOFFSETTO:-0500
TZNAME:CDT
DTSTART:20260308T080000
END:DAYLIGHT
BEGIN:STANDARD
TZOFFSETFROM:-0500
TZOFFSETTO:-0600
TZNAME:CST
DTSTART:20261101T070000
END:STANDARD
BEGIN:DAYLIGHT
TZOFFSETFROM:-0600
TZOFFSETTO:-0500
TZNAME:CDT
DTSTART:20270314T080000
END:DAYLIGHT
BEGIN:STANDARD
TZOFFSETFROM:-0500
TZOFFSETTO:-0600
TZNAME:CST
DTSTART:20271107T070000
END:STANDARD
END:VTIMEZONE
BEGIN:VEVENT
DTSTART;TZID=America/Chicago:20260317T110000
DTEND;TZID=America/Chicago:20260319T150000
DTSTAMP:20260423T070909
CREATED:20260317T134658Z
LAST-MODIFIED:20260317T134658Z
UID:10000028-1773745200-1773932400@shortercollege.edu
SUMMARY:Religious Emphasis Week
DESCRIPTION:Religious Emphasis Week starts today at 11:00 AM\, and we invite you to join us as we kick off this meaningful time of fellowship and reflection centered around life\, body\, mind\, and spirit. \nToday’s Chapel Speaker:\nRev. Henry Parker\, Jr.\, Minister of Music at Saint John Baptist Church in Little Rock \nHere is what else we have planned for the week: \nWednesday\, March 18th at 11:00 AM\nChapel Speaker: Bishop Silvester Beaman\, Presiding Prelate of the 12th Episcopal District\, AME Church \nThursday\, March 19th at 9:00 AM\nWalking Vibe Event
URL:https://shortercollege.edu/event/religious-emphasis-week/
ORGANIZER;CN="Mary Hull-Lovett":MAILTO:info@shortercollege.edu
END:VEVENT
END:VCALENDAR