BEGIN:VCALENDAR
VERSION:2.0
PRODID:-//Shorter College - ECPv6.15.17.1//NONSGML v1.0//EN
CALSCALE:GREGORIAN
METHOD:PUBLISH
X-WR-CALNAME:Shorter College
X-ORIGINAL-URL:https://shortercollege.edu
X-WR-CALDESC:Events for Shorter College
REFRESH-INTERVAL;VALUE=DURATION:PT1H
X-Robots-Tag:noindex
X-PUBLISHED-TTL:PT1H
BEGIN:VTIMEZONE
TZID:America/Chicago
BEGIN:DAYLIGHT
TZOFFSETFROM:-0600
TZOFFSETTO:-0500
TZNAME:CDT
DTSTART:20250309T080000
END:DAYLIGHT
BEGIN:STANDARD
TZOFFSETFROM:-0500
TZOFFSETTO:-0600
TZNAME:CST
DTSTART:20251102T070000
END:STANDARD
BEGIN:DAYLIGHT
TZOFFSETFROM:-0600
TZOFFSETTO:-0500
TZNAME:CDT
DTSTART:20260308T080000
END:DAYLIGHT
BEGIN:STANDARD
TZOFFSETFROM:-0500
TZOFFSETTO:-0600
TZNAME:CST
DTSTART:20261101T070000
END:STANDARD
BEGIN:DAYLIGHT
TZOFFSETFROM:-0600
TZOFFSETTO:-0500
TZNAME:CDT
DTSTART:20270314T080000
END:DAYLIGHT
BEGIN:STANDARD
TZOFFSETFROM:-0500
TZOFFSETTO:-0600
TZNAME:CST
DTSTART:20271107T070000
END:STANDARD
END:VTIMEZONE
BEGIN:VEVENT
DTSTART;TZID=America/Chicago:20260317T090000
DTEND;TZID=America/Chicago:20260317T150000
DTSTAMP:20260421T033230
CREATED:20260317T134302Z
LAST-MODIFIED:20260317T134302Z
UID:10000027-1773738000-1773759600@shortercollege.edu
SUMMARY:A walking Vibe Event
DESCRIPTION:
URL:https://shortercollege.edu/event/a-walking-vibe-event/
LOCATION:s.S. Morris Building Student Center\, 604 N Locust St\, North Little Rock\, AR\, 72114\, United States
ATTACH;FMTTYPE=image/png:https://shortercollege.edu/wp-content/uploads/2026/03/A-Walking-Vibe-1.png
ORGANIZER;CN="Brittany Burgess%2C MS Bulldog Safe Project Director":MAILTO:BBurgess@shortercollege.edu
END:VEVENT
BEGIN:VEVENT
DTSTART;TZID=America/Chicago:20260217T180000
DTEND;TZID=America/Chicago:20260217T193000
DTSTAMP:20260421T033230
CREATED:20260112T005826Z
LAST-MODIFIED:20260112T005826Z
UID:10000013-1771351200-1771356600@shortercollege.edu
SUMMARY:Paint and Sip: Protect Your Peace
DESCRIPTION:Enjoy a creative night of painting\, reflection\, and conversation. Explore what peace\, boundaries\, and self worth look like in healthy relationships while creating your own artwork.
URL:https://shortercollege.edu/event/paint-and-sip-protect-your-peace/
LOCATION:s.S. Morris Building Student Center\, 604 N Locust St\, North Little Rock\, AR\, 72114\, United States
ORGANIZER;CN="Brittany Burgess%2C MS Bulldog Safe Project Director":MAILTO:BBurgess@shortercollege.edu
END:VEVENT
BEGIN:VEVENT
DTSTART;TZID=America/Chicago:20260205T123000
DTEND;TZID=America/Chicago:20260205T133000
DTSTAMP:20260421T033230
CREATED:20260112T005710Z
LAST-MODIFIED:20260112T005710Z
UID:10000012-1770294600-1770298200@shortercollege.edu
SUMMARY:Girl Talk
DESCRIPTION:A relaxed and judgment free space for young women to talk openly about dating\, relationships\, boundaries\, self worth\, and safety. Food will be provided. All women are welcome.
URL:https://shortercollege.edu/event/girl-talk/
LOCATION:s.S. Morris Building Student Center\, 604 N Locust St\, North Little Rock\, AR\, 72114\, United States
ORGANIZER;CN="Brittany Burgess%2C MS Bulldog Safe Project Director":MAILTO:BBurgess@shortercollege.edu
END:VEVENT
END:VCALENDAR